BEGIN:VCALENDAR
VERSION:2.0
PRODID:-//Carinthian Linux Days
BEGIN:VEVENT
UID:1carinthianlinuxdaysverein
DTSTAMP:20251215T000000Z
DTSTART:20260111T160000
DTEND:20260111T200000
SUMMARY:Linux Stammtisch
LOCATION:Myzel\, Lederergasse 18\, 9500 Villach
BEGIN:VALARM
ACTION:DISPLAY
TRIGGER:-PT30M
DESCRIPTION:Reminder
END:VALARM
ATTACH:https://carinthianlinuxday.at/Veranstaltungen/stammtisch.html
END:VEVENT
BEGIN:VEVENT
UID:2carinthianlinuxdaysverein
DTSTAMP:20251215T000000Z
DTSTART:20260208T160000
DTEND:20260208T200000
SUMMARY:Linux Stammtisch
LOCATION:Myzel\, Lederergasse 18\, 9500 Villach
BEGIN:VALARM
ACTION:DISPLAY
TRIGGER:-PT30M
DESCRIPTION:Reminder
END:VALARM
ATTACH:https://carinthianlinuxday.at/Veranstaltungen/stammtisch.html
END:VEVENT
BEGIN:VEVENT
UID:3carinthianlinuxdaysverein
DTSTAMP:20251215T000000Z
DTSTART:20260308T160000
DTEND:20260308T200000
SUMMARY:Linux Stammtisch
LOCATION:Myzel\, Lederergasse 18\, 9500 Villach
BEGIN:VALARM
ACTION:DISPLAY
TRIGGER:-PT30M
DESCRIPTION:Reminder
END:VALARM
ATTACH:https://carinthianlinuxday.at/Veranstaltungen/stammtisch.html
END:VEVENT
BEGIN:VEVENT
UID:4carinthianlinuxdaysverein
DTSTAMP:20251215T000000Z
DTSTART:20260412T160000
DTEND:20260412T200000
SUMMARY:Linux Stammtisch
LOCATION:Myzel\, Lederergasse 18\, 9500 Villach
BEGIN:VALARM
ACTION:DISPLAY
TRIGGER:-PT30M
DESCRIPTION:Reminder
END:VALARM
ATTACH:https://carinthianlinuxday.at/Veranstaltungen/stammtisch.html
END:VEVENT
BEGIN:VEVENT
UID:5carinthianlinuxdaysverein
DTSTAMP:20251215T000000Z
DTSTART:20260510T160000
DTEND:20260510T200000
SUMMARY:Linux Stammtisch
LOCATION:Myzel\, Lederergasse 18\, 9500 Villach
BEGIN:VALARM
ACTION:DISPLAY
TRIGGER:-PT30M
DESCRIPTION:Reminder
END:VALARM
ATTACH:https://carinthianlinuxday.at/Veranstaltungen/stammtisch.html
END:VEVENT
BEGIN:VEVENT
UID:6carinthianlinuxdaysverein
DTSTAMP:20251215T000000Z
DTSTART:20260614T160000
DTEND:20260614T200000
SUMMARY:Linux Stammtisch
LOCATION:Myzel\, Lederergasse 18\, 9500 Villach
BEGIN:VALARM
ACTION:DISPLAY
TRIGGER:-PT30M
DESCRIPTION:Reminder
END:VALARM
ATTACH:https://carinthianlinuxday.at/Veranstaltungen/stammtisch.html
END:VEVENT
BEGIN:VEVENT
UID:7carinthianlinuxdaysverein
DTSTAMP:20251215T000000Z
DTSTART:20260712T160000
DTEND:20260712T200000
SUMMARY:Linux Stammtisch
LOCATION:Myzel\, Lederergasse 18\, 9500 Villach
BEGIN:VALARM
ACTION:DISPLAY
TRIGGER:-PT30M
DESCRIPTION:Reminder
END:VALARM
ATTACH:https://carinthianlinuxday.at/Veranstaltungen/stammtisch.html
END:VEVENT
BEGIN:VEVENT
UID:8carinthianlinuxdaysverein
DTSTAMP:20251215T000000Z
DTSTART:20260809T160000
DTEND:20260809T200000
SUMMARY:Linux Stammtisch
LOCATION:Myzel\, Lederergasse 18\, 9500 Villach
BEGIN:VALARM
ACTION:DISPLAY
TRIGGER:-PT30M
DESCRIPTION:Reminder
END:VALARM
ATTACH:https://carinthianlinuxday.at/Veranstaltungen/stammtisch.html
END:VEVENT
BEGIN:VEVENT
UID:9carinthianlinuxdaysverein
DTSTAMP:20251215T000000Z
DTSTART:20260913T160000
DTEND:20260913T200000
SUMMARY:Linux Stammtisch
LOCATION:Myzel\, Lederergasse 18\, 9500 Villach
BEGIN:VALARM
ACTION:DISPLAY
TRIGGER:-PT30M
DESCRIPTION:Reminder
END:VALARM
ATTACH:https://carinthianlinuxday.at/Veranstaltungen/stammtisch.html
END:VEVENT
BEGIN:VEVENT
UID:10carinthianlinuxdaysverein
DTSTAMP:20251215T000000Z
DTSTART:20261011T160000
DTEND:20261011T200000
SUMMARY:Linux Stammtisch
LOCATION:Myzel\, Lederergasse 18\, 9500 Villach
BEGIN:VALARM
ACTION:DISPLAY
TRIGGER:-PT30M
DESCRIPTION:Reminder
END:VALARM
ATTACH:https://carinthianlinuxday.at/Veranstaltungen/stammtisch.html
END:VEVENT
BEGIN:VEVENT
UID:11carinthianlinuxdaysverein
DTSTAMP:20251215T000000Z
DTSTART:20261108T160000
DTEND:20261108T200000
SUMMARY:Linux Stammtisch
LOCATION:Myzel\, Lederergasse 18\, 9500 Villach
BEGIN:VALARM
ACTION:DISPLAY
TRIGGER:-PT30M
DESCRIPTION:Reminder
END:VALARM
ATTACH:https://carinthianlinuxday.at/Veranstaltungen/stammtisch.html
END:VEVENT
BEGIN:VEVENT
UID:12carinthianlinuxdaysverein
DTSTAMP:20251215T000000Z
DTSTART:20261213T160000
DTEND:20261213T200000
SUMMARY:Linux Stammtisch
LOCATION:Myzel\, Lederergasse 18\, 9500 Villach
BEGIN:VALARM
ACTION:DISPLAY
TRIGGER:-PT30M
DESCRIPTION:Reminder
END:VALARM
ATTACH:https://carinthianlinuxday.at/Veranstaltungen/stammtisch.html
END:VEVENT
END:VCALENDAR
